BEGIN:VCALENDAR
PRODID:-//Google Inc//Google Calendar 70.9054//EN
VERSION:2.0
CALSCALE:GREGORIAN
METHOD:PUBLISH
X-WR-CALNAME:Karhubasketin puolivälieräottelut 2025-2026
X-WR-TIMEZONE:Europe/Helsinki
X-WR-CALDESC:Karhubasketin puolivälieräottelut Kataja Basketia vastaan
BEGIN:VEVENT
DTSTART:20260402T153000Z
DTEND:20260402T173000Z
DTSTAMP:20260320T174932Z
UID:3vftoqm3ve8tn16vqclfjm1bue@google.com
CREATED:20260319T205002Z
DESCRIPTION:Korisliigan 4. puolivälieräottelu
LAST-MODIFIED:20260319T205002Z
LOCATION:Motonet Areena\, Kisapolku 1\, 80110 Joensuu\, Suomi
SEQUENCE:0
STATUS:CONFIRMED
SUMMARY:Kataja Basket - Karhubasket
TRANSP:OPAQUE
END:VEVENT
BEGIN:VEVENT
DTSTART:20260324T163000Z
DTEND:20260324T183000Z
DTSTAMP:20260320T174932Z
UID:2a72ntmqh4k1s6afe42cadqbth@google.com
CREATED:20260319T204808Z
DESCRIPTION:Korisliigan 1. puolivälieräottelu
LAST-MODIFIED:20260320T174336Z
LOCATION:IKH Areena\, Pikikuja 16\, 61800 Kauhajoki\, Suomi
SEQUENCE:0
STATUS:CONFIRMED
SUMMARY:Karhubasket - Kataja Basket
TRANSP:OPAQUE
END:VEVENT
BEGIN:VEVENT
DTSTART:20260327T163000Z
DTEND:20260327T183000Z
DTSTAMP:20260320T174932Z
UID:17elhcb91kqmd4fd7slb8sihef@google.com
CREATED:20260319T204845Z
DESCRIPTION:Korisliigan 2. puolivälieräottelu
LAST-MODIFIED:20260320T174351Z
LOCATION:Motonet Areena\, Kisapolku 1\, 80110 Joensuu\, Suomi
SEQUENCE:0
STATUS:CONFIRMED
SUMMARY:Kataja Basket - Karhubasket
TRANSP:OPAQUE
END:VEVENT
BEGIN:VEVENT
DTSTART:20260407T153000Z
DTEND:20260407T173000Z
DTSTAMP:20260320T174932Z
UID:11q5c0444724tt751aingur04m@google.com
CREATED:20260319T205210Z
DESCRIPTION:Korisliigan mahdollinen 6. puolivälieräottelu
LAST-MODIFIED:20260319T205210Z
LOCATION:Motonet Areena\, Kisapolku 1\, 80110 Joensuu\, Suomi
SEQUENCE:0
STATUS:CONFIRMED
SUMMARY:Kataja Basket - Karhubasket (tarvittaessa)
TRANSP:OPAQUE
END:VEVENT
BEGIN:VEVENT
DTSTART:20260409T153000Z
DTEND:20260409T173000Z
DTSTAMP:20260320T174932Z
UID:0g6fli1lc1re13l393cb60gn6c@google.com
CREATED:20260319T205303Z
DESCRIPTION:Korisliigan mahdollinen 7. puolivälieräottelu
LAST-MODIFIED:20260319T205304Z
LOCATION:IKH Areena\, Pikikuja 16\, 61800 Kauhajoki\, Suomi
SEQUENCE:0
STATUS:CONFIRMED
SUMMARY:Karhubasket - Kataja Basket (tarvittaessa)
TRANSP:OPAQUE
END:VEVENT
BEGIN:VEVENT
DTSTART:20260330T153000Z
DTEND:20260330T173000Z
DTSTAMP:20260320T174932Z
UID:50u9tfb4cdah43kaulmk10e5gj@google.com
CREATED:20260319T204924Z
DESCRIPTION:Korisliigan 3. puolivälieräottelu
LAST-MODIFIED:20260319T204924Z
LOCATION:IKH Areena\, Pikikuja 16\, 61800 Kauhajoki\, Suomi
SEQUENCE:0
STATUS:CONFIRMED
SUMMARY:Karhubasket - Kataja Basket
TRANSP:OPAQUE
END:VEVENT
BEGIN:VEVENT
DTSTART:20260404T150000Z
DTEND:20260404T170000Z
DTSTAMP:20260320T174932Z
UID:74ssnl3jtlhss9gghd8f7kl222@google.com
CREATED:20260319T205111Z
DESCRIPTION:Korisliigan mahdollinen 5. puolivälieräottelu
LAST-MODIFIED:20260319T205112Z
LOCATION:IKH Areena\, Pikikuja 16\, 61800 Kauhajoki\, Suomi
SEQUENCE:0
STATUS:CONFIRMED
SUMMARY:Karhubasket - Kataja Basket (tarvitttaessa)
TRANSP:OPAQUE
END:VEVENT
END:VCALENDAR
